Workbook

Sheet ผด.1
A3: บัญชีสรุปโครงการและงบประมาณ
A4: แผนการดำเนินงาน ประจำปีงบประมาณ พ.ศ. 2563
A5: เทศบาลตำบลยุโป
A7: ยุทธศาสตร์และแนวทางการพัฒนา | E7: จำนวน | F7: ร้อยละของ | G7: จำนวน | H7: ร้อยละของ | I7: หน่วย
E8: โครงการ | F8: โครงการ | G8: งบประมาณ | H8: งบประมาณ | I8: ดำเนินการ
A9: 1. | B9: ยุทธศาสตร์การพัฒนา
B10: ด้านโครงสร้างพื้นฐาน
B11: 1.1 | C11: แผนงานอุตสาหกรรมและการโยธา | E11: =ผด.2!T17 -> 1 | F11: 1.17 | G11: =ผด.2!U17 -> 5910000 | H11: =G11*100/G66 -> 25.948219 | I11: กองช่าง
B12: 1.2 | C12: แผนงานเคหะและชุมชน | E12: - | F12: - | G12: - | H12: - | I12: กองช่าง
B13: 1.3 | C13: แผนงานการพาณิชย์ | E13: - | F13: - | G13: - | H13: - | I13: -
B14: 1.4 | C14: แผนงานการเกษตร | E14: - | F14: - | G14: - | H14: - | I14: -
A15: รวม | E15: =SUM(E11:E14) -> 1 | F15: =SUM(F11:F14) -> 1.17 | G15: =SUM(G11:G14) -> 5910000 | H15: =SUM(H11:H14) -> 25.948219
A16: 2. | B16: ยุทธศาสตร์การพัฒนา
B17: ด้านการบริหารจัดการองค์กรและการปกครอง
B18: 2.1 | C18: แผนงานบริหารงานทั่วไป | E18: =ผด.2!T56 -> 8 | F18: 9.41 | G18: =ผด.2!U56 -> 972000 | H18: =G18*100/G66 -> 4.2676258 | I18: สำนักปลัด
B19: 2.2 | C19: แผนงานสร้างความเข้มแข็งชุมชน | E19: =ผด.2!T74 -> 3 | F19: 3.53 | G19: =ผด.2!U74 -> 207000 | H19: =G19*100/G66 -> 0.90884624 | I19: สำนักปลัด
A21: รวม | E21: =SUM(E18:E20) -> 11 | F21: =SUM(F18:F20) -> 12.94 | G21: =SUM(G18:G20) -> 1179000 | H21: =SUM(H18:H20) -> 5.176472
A23: -ก-
F25: หss- sohk 4 -
A29: ยุทธศาสตร์และแนวทางการพัฒนา | E29: จำนวน | F29: ร้อยละของ | G29: จำนวน | H29: ร้อยละของ | I29: หน่วย
E30: โครงการ | F30: โครงการ | G30: งบประมาณ | H30: งบประมาณ | I30: ดำเนินการ
A31: 3. | B31: ยุทธศาสตร์การพัฒนา
B32: ด้านจัดการศึกษา ศาสนาประเพณีวัฒนธรรมการกีฬและนันทนาการ
B33: 3.1 | C33: แผนงานการศึกษา | E33: =ผด.2!T121 -> 10 | F33: 11.77 | G33: =ผด.2!U121 -> 1860830 | H33: =G33*100/G66 -> 8.1700886 | I33: กองการศึกษา
B34: 3.2 | C34: แผนงานการศาสนาวัฒนธรรมและนันทนาการ | E34: =ผด.2!T195 -> 23 | F34: 27.06 | G34: =ผด.2!U195 -> 490000 | H34: =G34*100/G66 -> 2.1513751 | I34: กองการศึกษา
A36: รวม | E36: =SUM(E33:E35) -> 33 | F36: =SUM(F33:F35) -> 38.83 | G36: =SUM(G33:G35) -> 2350830 | H36: =SUM(H33:H35) -> 10.321464
A37: 4. | B37: ยุทธศาสตร์การพัฒนา
B38: ด้านการแก้ไขปัญหาความยากจนและพัฒนาคุณภาพชีวิต
B39: 4.1 | C39: แผนงานการเกษตร | E39: =ผด.2!T233 -> 6 | F39: 7.07 | G39: =ผด.2!U233 -> 35000 | H39: =G39*100/G66 -> 0.15366965 | I39: กองการศึกษา
B40: 4.2 | C40: แผนงานสร้างความเข้มแข็งชุมชน | E40: =ผด.2!T271 -> 10 | F40: 11.77 | G40: =ผด.2!U271 -> 780000 | H40: =G40*100/G66 -> 3.424638 | I40: สำนักปลัด
B41: 4.3 | C41: แผนงานสาธารณสุข | E41: =ผด.2!T292 -> 6 | F41: 7.07 | G41: =ผด.2!U292 -> 467300 | H41: =G41*100/G66 -> 2.0517094 | I41: สำนักปลัด
B42: 4.4 | C42: แผนงานสังคมสงเคราะห์ | E42: =ผด.2!T314 -> 2 | F42: 2.35 | G42: =ผด.2!U314 -> 8000 | H42: =G42*100/G66 -> 0.035124492 | I42: สำนักปลัด
B43: 4.5 | C43: แผนงานงบกลาง | E43: =ผด.2!T327 -> 3 | F43: 3.53 | G43: =ผด.2!U327 -> 11460000 | H43: =G43*100/G66 -> 50.315835 | I43: สำนักปลัด
A44: รวม | E44: =SUM(E39:E43) -> 27 | F44: =SUM(F39:F43) -> 31.79 | G44: =SUM(G39:G43) -> 12750300 | H44: =SUM(H39:H43) -> 55.980977
A46: -ข-
A52: ยุทธศาสตร์และแนวทางการพัฒนา | E52: จำนวน | F52: ร้อยละของ | G52: จำนวน | H52: ร้อยละของ | I52: หน่วย
E53: โครงการ | F53: โครงการ | G53: งบประมาณ | H53: งบประมาณ | I53: ดำเนินการ
A54: 5. | B54: ยุทธศาสตร์การพัฒนา
B55: ด้านสังคม
B56: 5.1 | C56: แผนงานสร้างความเข้มแข็งชุมชน | E56: =ผด.2!T346 -> 2 | F56: 2.35 | G56: =ผด.2!U346 -> 10000 | H56: =G56*100/G66 -> 0.043905615 | I56: สำนักปลัด
B57: 5.2 | C57: แผนงานการรักษาความสงบภายใน | E57: =ผด.2!T380 -> 5 | F57: 5.88 | G57: =ผด.2!U380 -> 31000 | H57: =G57*100/G66 -> 0.13610741 | I57: สำนักปลัด
B58: 5.3 | C58: แผนงานงบกลาง | E58: =ผด.2!T389 -> 1 | F58: 1.17 | G58: =ผด.2!U389 -> 450000 | H58: =G58*100/G66 -> 1.9757527 | I58: สำนักปลัด
A59: รวม | E59: =SUM(E56:E58) -> 8 | F59: =SUM(F56:F58) -> 9.4 | G59: =SUM(G56:G58) -> 491000 | H59: =SUM(H56:H58) -> 2.1557657
A60: 6. | B60: ยุทธศาสตร์การพัฒนา
B61: ด้านทรัพยากรธรรมชาติและสิ่งแวดล้อม
B62: 6.1 | C62: แผนงานเคหะและชุมชน | E62: =ผด.2!T404 -> 1 | F62: 1.17 | G62: =ผด.2!U404 -> 5000 | H62: =G62*100/G66 -> 0.021952808 | I62: สำนักปลัด
B63: 6.2 | C63: แผนงานสร้างความเข้มแข็งชุมชน | E63: =ผด.2!T415 -> 2 | F63: 2.35 | G63: =ผด.2!U415 -> 55000 | H63: =G63*100/G66 -> 0.24148088 | I63: สำนักปลัด
B64: 6.3 | C64: แผนงานการเกษตร | E64: 2 | F64: 2.35 | G64: =ผด.2!U438 -> 35000 | H64: =G64*100/G66 -> 0.15366965 | I64: สำนักปลัด
A65: รวม | E65: =SUM(E62:E64) -> 5 | F65: =SUM(F62:F64) -> 5.87 | G65: =SUM(G62:G64) -> 95000 | H65: =SUM(H62:H64) -> 0.41710334
A66: รวมทั้งสิ้น ( 1+2+3+4+5+6) | E66: =E65+E59+E44+E36+E21+E15 -> 85 | F66: =F65+F59+F44+F36+F21+F15 -> 100 | G66: =G15+G21+G36+G44+G59+G65 -> 22776130 | H66: =H15+H21+H36+H44+H59+H65 -> 100
A69: -ค-
A73: บัญชีสรุปโครงการและงบประมาณ
A74: แผนการดำเนินงาน ประจำปีงบประมาณ พ.ศ. 2562
A75: เทศบาลตำบลยุโป
A77: ยุทธศาสตร์และแนวทางการพัฒนา | E77: จำนวนโครงการ | F77: คิดเป็นร้อยละของ | G77: จำนวน | H77: คิดเป็นร้อยละของ | I77: หน่วย
E78: ที่ดำเนินการ | F78: โครงการทั้งหมด | G78: งบประมาณ | H78: งบประมาณทั้งหมด | I78: ดำเนินการ
A79: 1. | B79: ยุทธศาสตร์การพัฒนา
B80: ด้านโครงสร้างพื้นฐาน
B81: 1.1 | C81: แผนงานอุตสาหกรรมและการโยธา | E81: 3 | F81: =E81*100/E136 -> 2.8846154 | G81: 2853700 | H81: =G81*100/G136 -> 14.422467 | I81: กองช่าง
B82: 1.2 | C82: แผนงานเคหะและชุมชน | E82: 9 | F82: =E82*100/E136 -> 8.6538462 | G82: 1498000 | H82: =G82*100/G136 -> 7.5708223 | I82: กองช่าง
B83: 1.3 | C83: แผนงานการพาณิชย์ | E83: - | F83: - | G83: - | H83: - | I83: -
B84: 1.4 | C84: แผนงานการเกษตร | E84: - | F84: - | G84: - | H84: - | I84: -
A85: รวม | E85: =SUM(E81:E84) -> 12 | F85: =SUM(F81:F84) -> 11.538462 | G85: =SUM(G81:G84) -> 4351700 | H85: =SUM(H81:H84) -> 21.993289
A86: 2. | B86: ยุทธศาสตร์การพัฒนา
B87: ด้านการบริหารจัดการองค์กรและการปกครอง
B88: 2.1 | C88: แผนงานบริหารงานทั่วไป | E88: 7 | F88: =E88*100/E136 -> 6.7307692 | G88: 2258000 | H88: =G88*100/G136 -> 11.411827 | I88: สำนักปลัด
B89: 2.2 | C89: แผนงานสร้างความเข้มแข็งชุมชน | E89: 6 | F89: =E89*100/E136 -> 5.7692308 | G89: 380000 | H89: =G89*100/G136 -> 1.9205023 | I89: สำนักปลัด
A91: รวม | E91: =SUM(E88:E90) -> 13 | F91: =SUM(F88:F90) -> 12.5 | G91: =SUM(G88:G90) -> 2638000 | H91: =SUM(H88:H90) -> 13.332329
A93: -ก-
F95: หss- sohk 4 -
A99: ยุทธศาสตร์และแนวทางการพัฒนา | E99: จำนวนโครงการ | F99: คิดเป็นร้อยละของ | G99: จำนวน | H99: คิดเป็นร้อยละของ | I99: หน่วย
E100: ที่ดำเนินการ | F100: โครงการทั้งหมด | G100: งบประมาณ | H100: งบประมาณทั้งหมด | I100: ดำเนินการ
A101: 3. | B101: ยุทธศาสตร์การพัฒนา
B102: ด้านจัดการศึกษา ศาสนาประเพณีวัฒนธรรมการกีฬและนันทนาการ
B103: 3.1 | C103: แผนงานการศึกษา | E103: 11 | F103: 18 | G103: 1844830 | H103: =G103*100/G136 -> 9.323685 | I103: กองการศึกษา
B104: 3.2 | C104: แผนงานการศาสนาวัฒนธรรมและนันทนาการ | E104: 17 | F104: =E104*100/E136 -> 16.346154 | G104: 363000 | H104: =G104*100/G136 -> 1.8345851 | I104: กองการศึกษา
B105: 3.3 | C105: แผนงานสร้างความเข้มแข็งชุมชน | E105: 1 | F105: =E105*100/E136 -> 0.96153846 | G105: 5000 | H105: =G105*100/G136 -> 0.025269767 | I105: กองการศึกษา
A106: รวม | E106: =SUM(E103:E105) -> 29 | F106: =SUM(F103:F105) -> 35.307692 | G106: =SUM(G103:G105) -> 2212830 | H106: =SUM(H103:H105) -> 11.18354
A107: 4. | B107: ยุทธศาสตร์การพัฒนา
B108: ด้านการแก้ไขปัญหาความยากจนและพัฒนาคุณภาพชีวิต
B109: 4.1 | C109: แผนงานการเกษตร | E109: 1 | F109: =E109*100/E136 -> 0.96153846 | G109: 30000 | H109: =G109*100/G136 -> 0.1516186 | I109: กองการศึกษา
B110: 4.2 | C110: แผนงานสร้างความเข้มแข็งชุมชน | E110: 7 | F110: =E110*100/E136 -> 6.7307692 | G110: 50000 | H110: =G110*100/G136 -> 0.25269767 | I110: สำนักปลัด
B111: 4.3 | C111: แผนงานสาธารณสุข | E111: 12 | F111: =E111*100/E136 -> 11.538462 | G111: 491120 | H111: =G111*100/G136 -> 2.4820976 | I111: สำนักปลัด
B112: 4.4 | C112: แผนงานสังคมสงเคราะห์ | E112: 1 | F112: =E112*100/E136 -> 0.96153846 | G112: 100000 | H112: =G112*100/G136 -> 0.50539535 | I112: สำนักปลัด
B113: 4.5 | C113: แผนงานงบกลาง | E113: 3 | F113: =E113*100/E136 -> 2.8846154 | G113: 8749200 | H113: =G113*100/G136 -> 44.21805 | I113: สำนักปลัด
A114: รวม | E114: =SUM(E109:E113) -> 24 | F114: =SUM(F109:F113) -> 23.076923 | G114: =SUM(G109:G113) -> 9420320 | H114: =SUM(H109:H113) -> 47.609859
A116: -ข-
A122: ยุทธศาสตร์และแนวทางการพัฒนา | E122: จำนวนโครงการ | F122: คิดเป็นร้อยละของ | G122: จำนวน | H122: คิดเป็นร้อยละของ | I122: หน่วย
E123: ที่ดำเนินการ | F123: โครงการทั้งหมด | G123: งบประมาณ | H123: งบประมาณทั้งหมด | I123: ดำเนินการ
A124: 5. | B124: ยุทธศาสตร์การพัฒนา
B125: ด้านสังคม
B126: 5.1 | C126: แผนงานสร้างความเข้มแข็งชุมชน | E126: 12 | F126: =E126*100/E136 -> 11.538462 | G126: 193000 | H126: =G126*100/G136 -> 0.97541302 | I126: สำนักปลัด
B127: 5.2 | C127: แผนงานการรักษาความสงบภายใน | E127: 6 | F127: =E127*100/E136 -> 5.7692308 | G127: 92000 | H127: =G127*100/G136 -> 0.46496372 | I127: สำนักปลัด
B128: 5.3 | C128: แผนงานงบกลาง | E128: 1 | F128: =E128*100/E136 -> 0.96153846 | G128: 683640 | H128: =G128*100/G136 -> 3.4550848 | I128: สำนักปลัด
A129: รวม | E129: =SUM(E126:E128) -> 19 | F129: =SUM(F126:F128) -> 18.269231 | G129: =SUM(G126:G128) -> 968640 | H129: =SUM(H126:H128) -> 4.8954615
A130: 6. | B130: ยุทธศาสตร์การพัฒนา
B131: ด้านทรัพยากรธรรมชาติและสิ่งแวดล้อม
B132: 6.1 | C132: แผนงานเคหะและชุมชน | E132: 1 | F132: =E132*100/E136 -> 0.96153846 | G132: 50000 | H132: =G132*100/G136 -> 0.25269767 | I132: สำนักปลัด
B133: 6.2 | C133: แผนงานสร้างความเข้มแข็งชุมชน | E133: 4 | F133: =E133*100/E136 -> 3.8461538 | G133: 130000 | H133: =G133*100/G136 -> 0.65701395 | I133: สำนักปลัด
B134: 6.3 | C134: แผนงานการเกษตร | E134: 2 | F134: =E134*100/E136 -> 1.9230769 | G134: 15000 | H134: =G134*100/G136 -> 0.075809302 | I134: สำนักปลัด
...

Sheet ผด.2
A2: ร่าง
A3: รายละเอียดโครงการ/กิจกรรม
A4: แผนดำเนินงาน ประจำปีงบประมาณ พ.ศ. 2563
A5: สำหรับ องค์กรปกครองส่วนท้องถิ่นดำเนินการเอง
A6: ก. ยุทธศาสตร์จังหวัดที่ 4 เสริมสร้างยะลาสันติสุข
A7: ข. ยุทธศาสตร์การพัฒนาขององค์กรปกครองส่วนท้องถิ่นในเขตจังหวัดที่ 3 ยุทธศาสตร์ การส่งเสริมโครงสร้างพื้นฐานและระบบคมนาคม
A8: 1. ยุทธศาสตร์การพัฒนาด้านโครงสร้างพื้นฐาน
B9: 1.1 แผนงาน อุตสาหกรรมและการโยธา
A11: ที่ | B11: โครงการ/แผนงาน/กิจกรรม | C11: เป้าหมาย | D11: งบประมาณ | E11: สถานที่ | F11: หน่วย | G11: พ.ศ.2562 | J11: พ.ศ. 2563
D12: (บาท) | E12: ดำเนินการ | F12: ดำเนินการ | G12: ต.ค. | H12: พ.ย. | I12: ธ.ค. | J12: ม.ค. | K12: ก.พ. | L12: มี.ค. | M12: เม.ย. | N12: พ.ค. | O12: มิ.ย. | P12: ก.ค | Q12: ส.ค. | R12: ก.ย.
A13: 1 | B13: โครงการก่อสร้างถนนลาดยางแอสฟัลติก | C13: ก่อสร้างถนนลาดยางแอสฟัลติก | D13: 5910000 | E13: หมู่ที่ 4 | F13: กองช่าง | U13: =D13 -> 5910000
B14: สายสี่เลน โต๊ะนิ-มัรกัส หมู่ที่ 4 | C14: กว้าง 8 เมตร ระยะทาง 1,090 เมตร | D14: (งบ ทต.)
C15: (ตามแบบ ทต.กำหนด)
T17: 1 | U17: =SUM(U13:U16) -> 5910000
A29: 1
A33: ยุทธศาสตร์จังหวัดที่ 4 เสริมสร้างยะลาสันติสุข
A34: ยุทธศาสตร์การพัฒนาของ อปท. ในเขตจังหวัดที่
A35: 2. ยุทธศาสตร์การพัฒนาด้านการบริหารจัดการองค์กรและการปกครอง
B36: 2.1 แผนงานบริหารงานทั่วไป
A38: ที่ | B38: โครงการ/แผนงาน/กิจกรรม | C38: เป้าหมาย | D38: งบประมาณ | E38: สถานที่ | F38: หน่วย | G38: พ.ศ.2562 | J38: พ.ศ. 2563
D39: (บาท) | E39: ดำเนินการ | F39: ดำเนินการ | G39: ต.ค. | H39: พ.ย. | I39: ธ.ค. | J39: ม.ค. | K39: ก.พ. | L39: มี.ค. | M39: เม.ย. | N39: พ.ค. | O39: มิ.ย. | P39: ก.ค | Q39: ส.ค. | R39: ก.ย.
A40: 1 | B40: จัดงานรัฐพิธีและวันสำคัญต่างๆ | C40: จัดกิจกรรมในงานรัฐพิธีและวันสำคัญ | D40: 30000 | E40: เทศบาล | F40: สำนักปลัด | U40: =D40 -> 30000
C41: โดยจัดถวายพระพร/กิจกรรมพัฒนา | D41: (งบ ทต.) | E41: ตำบลยุโป | U41: =D41 -> (งบ ทต.)
A42: 2 | B42: โครงการส่งเสริมคุณธรรมจริยธรรม | C42: ผู้บริหาร/สมาชิกสภา | D42: 4000 | E42: เทศบาล | F42: สำนักปลัด | U42: =D42 -> 4000
B43: ในการปฏิบัติงาน | C43: / พนักงานเทศบาล | D43: (งบ ทต.) | E43: ตำบลยุโป | U43: =D43 -> (งบ ทต.)
A44: 3 | B44: โครงการพัฒนาศักยภาพบุคลากร | C44: พนักงาน จนท. /ลูกจ้างเทศบาล | D44: 50000 | E44: เทศบาล | F44: สำนักปลัด | U44: =D44 -> 50000
B45: ท้องถิ่น | D45: (งบ ทต.) | E45: ตำบลยุโป | U45: =D45 -> (งบ ทต.)
A46: 4 | B46: โครงการให้บริการศูนย์ข้อมูลข่าวสาร | C46: พัฒนาศูนย์ข้อมูลข่าวสาร การบริหาร | D46: 4000 | E46: เทศบาล | F46: สำนักปลัด | U46: =D46 -> 4000
C47: จัดการ การเผยแพร่ สร้างการรับรู้ฯ | D47: (งบ ทต.) | E47: ตำบลยุโป | U47: =D47 -> (งบ ทต.)
A48: 5 | B48: โครงการสำรวจความพึงพอใจ | C48: สำรวจความพึงพอใจ | D48: 19000 | E48: เทศบาล | F48: สำนักปลัด | U48: =D48 -> 19000
B49: การให้บริหารสาธารณะในพื้นที่ | C49: การให้บริหารสาธารณะในพื้นที่ | D49: (งบ ทต.) | E49: ตำบลยุโป | U49: =D49 -> (งบ ทต.)
A50: 6 | B50: โครงการสนับสนุนการเลือกตั้ง | C50: ประชาชนในพื้นที่ตำบลยุโป | D50: 660000 | E50: เทศบาล | F50: สำนักปลัด | U50: =D50 -> 660000
B51: ตามหลักประชาธิปไตย | D51: (งบ ทต.) | E51: ตำบลยุโป | U51: =D51 -> (งบ ทต.)
A52: 7 | B52: โครงการจัดทำแผนที่ภาษีและ | C52: จัดทำแผนที่ภาษี | D52: 200000 | E52: เทศบาล | F52: กองคลัง | U52: =D52 -> 200000
B53: ทะเบียนทรัพย์สิน | C53: จำนวน 6 หมู่บ้าน | D53: (งบ ทต.) | E53: ตำบลยุโป | U53: =D53 -> (งบ ทต.)
A54: 8 | B54: จัดวางและปรับปรุงผังชุมชน | C54: การจัดวางผังชุมชน ในพื้นที่ | D54: 5000 | E54: เทศบาล | F54: กองช่าง | U54: =D54 -> 5000
D55: (งบ ทต.) | E55: ตำบลยุโป | U55: =D55 -> (งบ ทต.)
T56: 8 | U56: =SUM(U40:U55) -> 972000
A59: 2
A63: 2. ยุทธศาสตร์การพัฒนาด้านการบริหารจัดการองค์กรและการปกครอง
B64: 2.2 แผนงานสร้างความเข้มแข็งชุมชน
A66: ที่ | B66: โครงการ/แผนงาน/กิจกรรม | C66: เป้าหมาย | D66: งบประมาณ | E66: สถานที่ | F66: หน่วย | G66: พ.ศ.2562 | J66: พ.ศ. 2563
D67: (บาท) | E67: ดำเนินการ | F67: ดำเนินการ | G67: ต.ค. | H67: พ.ย. | I67: ธ.ค. | J67: ม.ค. | K67: ก.พ. | L67: มี.ค. | M67: เม.ย. | N67: พ.ค. | O67: มิ.ย. | P67: ก.ค | Q67: ส.ค. | R67: ก.ย.
A68: 1 | B68: โครงการรับฟังความคิดเห็นของ | C68: การจัดเวทีสัญจรรับฟังความคิดเห็น | D68: 5000 | E68: เทศบาล | F68: สำนักปลัด | U68: =D68 -> 5000
B69: ประชาชนสัญจร | C69: ของประชาชน อาหารว่างเครื่องดื่ม ฯ | D69: (งบ ทต.) | E69: ตำบลยุโป | U69: =D69 -> (งบ ทต.)
A70: 2 | B70: โครงการส่งเสริมประชาธิปไตย | C70: การส่งเสริมประชาธิปไตยในชุมชนและ | D70: 2000 | E70: เทศบาล | F70: สำนักปลัด | U70: =D70 -> 2000
C71: สถานศึกษา อาหารว่างเครื่องดื่ม ฯ | D71: (งบ ทต.) | E71: ตำบลยุโป | U71: =D71 -> (งบ ทต.)
A72: 3 | B72: โครงการอบรมศึกษาดูงานเพื่อพัฒนา | C72: อบรมดูงานพัฒนาศักยภาพของ | D72: 200000 | E72: เทศบาล | F72: สำนักปลัด | U72: =D72 -> 200000
B73: ศักยภาพผู้นำชุมชน | C73: ผู้นำชุมชนและสตรีตำบล | D73: (งบ ทต.) | E73: ตำบลยุโป | U73: =D73 -> (งบ ทต.)
T74: 3 | U74: =SUM(U68:U73) -> 207000
A89: 3
A93: ยุทธศาสตร์จังหวัดที่ 5 พัฒนาคุณภาพชีวิตของประชาชน
A94: ยุทธศาสตร์การพัฒนาของ อปท. ในเขตจังหวัดที่ 1 การส่งเสริมด้านการศึกษา กีฬา และนันทนาการ
A95: 3. ยุทธศาสตร์การพัฒนาด้านจัดการศึกษา ศาสนา ประเพณีวัฒนธรรม การกีฬาและนันทนาการ
B96: 3.1 แผนงานการศึกษา
A98: ที่ | B98: โครงการ/แผนงาน/กิจกรรม | C98: เป้าหมาย | D98: งบประมาณ | E98: สถานที่ | F98: หน่วย | G98: พ.ศ.2562 | J98: พ.ศ. 2563
D99: (บาท) | E99: ดำเนินการ | F99: ดำเนินการ | G99: ต.ค. | H99: พ.ย. | I99: ธ.ค. | J99: ม.ค. | K99: ก.พ. | L99: มี.ค. | M99: เม.ย. | N99: พ.ค. | O99: มิ.ย. | P99: ก.ค | Q99: ส.ค. | R99: ก.ย.
A100: 1 | B100: โครงการปฐมนิเทศผู้ปกครอง | C100: การปฐมนิเทศน์ผู้ปกครองและเด็กเล็ก | D100: 3000 | E100: เทศบาล | F100: กองการศึกษา | U100: =D100 -> 3000
C101: ศูนย์พัฒนาเด็กเล็ก | D101: (งบ ทต.) | E101: ตำบลยุโป | U101: =D101 -> (งบ ทต.)
A102: 2 | B102: โครงการสนับสนุนค่าใช้จ่ายการบริหาร | C102: สนับสนุนอาหารกลางวัน เครื่องแบบ | D102: 180750 | E102: เทศบาล | F102: กองการศึกษา | U102: =D102 -> 180750
B103: สถานศึกษา | C103: การเรียน/สอน/หนังสือ/สื่อ เด็ก 25 คน | D103: (เงินอุดหนุนทั่วไป) | E103: ตำบลยุโป | U103: =D103 -> (เงินอุดหนุนทั่วไป)
A104: 3 | B104: โครงการสื่อการสอนแทนใจ | C104: การสอนการทำสื่อเพื่อใช้ในการเรียน | D104: 3000 | E104: เทศบาล | F104: กองการศึกษา | U104: =D104 -> 3000
B105: เพื่อลูกน้อย | C105: การสอนสำหรับผู้ปกครอง | D105: (งบ ทต.) | E105: ตำบลยุโป | U105: =D105 -> (งบ ทต.)
A106: 4 | B106: โครงการหนูน้อยนักออม | C106: การทำกิจกรรมออมเงินนักเรียน ศพด. | D106: 2000 | E106: เทศบาล | F106: กองการศึกษา | U106: =D106 -> 2000
D107: (งบ ทต.) | E107: ตำบลยุโป | U107: =D107 -> (งบ ทต.)
A108: 5 | B108: ค่าอาหารเสริม (นม) | C108: จัดซื้ออาหารเสริม(นม) ให้ ศพด. | D108: 574080 | E108: เทศบาล | F108: กองการศึกษา | U108: =D108 -> 574080
C109: โรงเรียนสังกัด สพฐ. ในพื้นที่ | D109: (เงินอุดหนุนฯ.) | E109: ตำบลยุโป | U109: =D109 -> (เงินอุดหนุนฯ.)
A110: 6 | B110: อาหารกลางวัน | C110: สนับสนุนให้โรงเรียนสังกัด สพฐ. | D110: 1004000 | E110: เทศบาล | F110: กองการศึกษา | U110: =D110 -> 1004000
C111: ในพื้นที่ | D111: (เงินอุดหนุนฯ.) | E111: ตำบลยุโป | U111: =D111 -> (เงินอุดหนุนฯ.)
A112: 7 | B112: โครงการโรงเรียนผู้สูงอายุ | C112: ดำเนินการโรงเรียนผู้สูงอายุ เอกสาร | D112: 50000 | E112: เทศบาล | F112: กองการศึกษา | U112: =D112 -> 50000
C113: วัสดุอุปกรณ์ สื่อการเรียน การสอน ฯ | D113: (งบ ทต.) | E113: ตำบลยุโป | U113: =D113 -> (งบ ทต.)
A114: 8 | B114: โครงการวันเด็กแห่งชาติ | C114: จัดกิจกรรมวันเด็ก อาหาร อาหารว่าง | D114: 40000 | E114: เทศบาล | F114: กองการศึกษา | U114: =D114 -> 40000
C115: บูธนิทรรศการ วัสดุอุปกรณ์ รางวัล ฯ | D115: (งบ ทต.) | E115: ตำบลยุโป | U115: =D115 -> (งบ ทต.)
A116: 9 | B116: โครงการส่งเสริมการอ่าน | C116: จัดหาหนังสือและจัดกิจกรรมส่เสริม | D116: 2000 | E116: เทศบาล | F116: กองการศึกษา | U116: =D116 -> 2000
C117: รักการอ่านแก่ ศพด./โรงเรียนในพื้นที่ | D117: (งบ ทต.) | E117: ตำบลยุโป | U117: =D117 -> (งบ ทต.)
A118: 10 | B118: โครงการส่งเสริมกิจกรรมทาง | C118: ส่งเสริมวิชาการในพื้นที่ | D118: 2000 | E118: เทศบาล | F118: กองการศึกษา | U118: =D118 -> 2000
B119: วิชาการ | C119: รางวัล นิทรรศการ ประกวดแข่งขัน ฯ | D119: (งบ ทต.) | E119: ตำบลยุโป | U119: =D119 -> (งบ ทต.)
A120: 4
T121: 10 | U121: =SUM(U100:U120) -> 1860830
A124: 3. ยุทธศาสตร์การพัฒนาด้านจัดการศึกษา ศาสนา ประเพณีวัฒนธรรม การกีฬาและนันทนาการ
B125: 3.2 แผนงานการศาสนาวัฒนธรรมและนันทนาการ
A127: ที่ | B127: โครงการ/แผนงาน/กิจกรรม | C127: เป้าหมาย | D127: งบประมาณ | E127: สถานที่ | F127: หน่วย | G127: พ.ศ.2562 | J127: พ.ศ. 2563
D128: (บาท) | E128: ดำเนินการ | F128: ดำเนินการ | G128: ต.ค. | H128: พ.ย. | I128: ธ.ค. | J128: ม.ค. | K128: ก.พ. | L128: มี.ค. | M128: เม.ย. | N128: พ.ค. | O128: มิ.ย. | P128: ก.ค | Q128: ส.ค. | R128: ก.ย.
A129: 1 | B129: โครงการกีฬาสานสัมพันธ์เด็กปฐมวัย | C129: การแข่งขันกีฬา เด็กปฐมวัย ผู้ปกครอง | D129: 3000 | E129: เทศบาล | F129: กองการศึกษา | U129: =D129 -> 3000
C130: ครูผู้สอน ศพด. | D130: (งบ ทต.) | E130: ตำบลยุโป | U130: =D130 -> (งบ ทต.)
A131: 2 | B131: โครงการแข่งขันกีฬาตาดีกาสัมพันธ์ | C131: การแข่งขันกีฬานักเรียน บุคลากร | D131: 30000 | E131: เทศบาล | F131: กองการศึกษา | U131: =D131 -> 30000
C132: ร.ร ตาดีกาในพื้นที่ตำบลยุโป | D132: (งบ ทต.) | E132: ตำบลยุโป | U132: =D132 -> (งบ ทต.)
A133: 3 | B133: โครงการแข่งกีฬาสัมพันธ์ | C133: การแข่งขัน ส่งนักกีฬาเข้าร่วมแข่งขัน | D133: 3000 | E133: เทศบาล | F133: กองการศึกษา | U133: =D133 -> 3000
C134: ขององค์กรปกครองส่วนท้องถิ่น | D134: (งบ ทต.) | E134: ตำบลยุโป | U134: =D134 -> (งบ ทต.)
A135: 4 | B135: โครงการจัดการแข่งขันมหกรรมกีฬา | C135: การแข่งขันกีฬาเยาวชน ประชาชน | D135: 150000 | E135: เทศบาล | F135: กองการศึกษา | U135: =D135 -> 150000
B136: ต้านยาเสพติด | C136: การจัดงาน จัดการแข่งขัน ส่งนักกีฬาฯ | D136: (งบ ทต.) | E136: ตำบลยุโป | U136: =D136 -> (งบ ทต.)
A137: 5 | B137: โครงการวันท้องถิ่นสัมพันธ์ | C137: การแข่งขัน ส่งนักกีฬาเข้าร่วมแข่งขัน | D137: 5000 | E137: เทศบาล | F137: กองการศึกษา | U137: =D137 -> 5000
C138: แข่งขันขององค์กรปกครองส่วนท้องถิ่น | D138: (งบ ทต.) | E138: ตำบลยุโป | U138: =D138 -> (งบ ทต.)
A139: 6 | B139: โครงการส่งเสริมการเล่นกีฬา | C139: การส่งเสริมการเล่นกีฬา พัฒนา เด็ก | D139: 50000 | E139: เทศบาล | F139: กองการศึกษา | U139: =D139 -> 50000
C140: สตรี เยาวชน ผู้สูงอายุ ผู้พิการ | D140: (งบ ทต.) | E140: ตำบลยุโป | U140: =D140 -> (งบ ทต.)
A141: 7 | B141: โครงการส่งเสริมการออกกำลังกาย | C141: การส่งเสริมการออกกำลังกาย สุขภาพ | D141: 2000 | E141: เทศบาล | F141: กองการศึกษา | U141: =D141 -> 2000
C142: การจัดงาน จัดการแข่งขัน ส่งนักกีฬาฯ | D142: (งบ ทต.) | E142: ตำบลยุโป | U142: =D142 -> (งบ ทต.)
A143: 8 | B143: โครงการนันทนาการสำหรับผู้สูงอายุ | C143: การส่งเสริมการออกกำลังกาย สุขภาพ | D143: 5000 | E143: เทศบาล | F143: กองการศึกษา | U143: =D143 -> 5000
C144: ผู้สูงอายุ | D144: (งบ ทต.) | E144: ตำบลยุโป | U144: =D144 -> (งบ ทต.)
A145: 9 | B145: โครงการอนุรักษ์ประเพณีพื้นถิ่น | C145: การส่งเสริมอนุรักษ์ประเพณีท้องถิ่น | D145: 10000 | E145: เทศบาล | F145: กองการศึกษา | U145: =D145 -> 10000
...
