Workbook

Sheet ผด.1
A3: บัญชีสรุปโครงการและงบประมาณ
A4: แผนการดำเนินงาน ประจำปีงบประมาณ พ.ศ. 2563
A5: เทศบาลตำบลยุโป
A7: ยุทธศาสตร์และแนวทางการพัฒนา | E7: จำนวน | F7: ร้อยละของ | G7: จำนวน | H7: ร้อยละของ | I7: หน่วย
E8: โครงการ | F8: โครงการ | G8: งบประมาณ | H8: งบประมาณ | I8: ดำเนินการ
A9: 1. | B9: ยุทธศาสตร์การพัฒนา
B10: ด้านโครงสร้างพื้นฐาน
B11: 1.1 | C11: แผนงานอุตสาหกรรมและการโยธา | E11: =ผด.2!T17 -> 1 | F11: 1.17 | G11: =ผด.2!U17 -> 5910000 | H11: =G11*100/G66 -> 25.948219 | I11: กองช่าง
B12: 1.2 | C12: แผนงานเคหะและชุมชน | E12: - | F12: - | G12: - | H12: - | I12: กองช่าง
B13: 1.3 | C13: แผนงานการพาณิชย์ | E13: - | F13: - | G13: - | H13: - | I13: -
B14: 1.4 | C14: แผนงานการเกษตร | E14: - | F14: - | G14: - | H14: - | I14: -
A15: รวม | E15: =SUM(E11:E14) -> 1 | F15: =SUM(F11:F14) -> 1.17 | G15: =SUM(G11:G14) -> 5910000 | H15: =SUM(H11:H14) -> 25.948219
A16: 2. | B16: ยุทธศาสตร์การพัฒนา
B17: ด้านการบริหารจัดการองค์กรและการปกครอง
B18: 2.1 | C18: แผนงานบริหารงานทั่วไป | E18: =ผด.2!T56 -> 8 | F18: 9.41 | G18: =ผด.2!U56 -> 972000 | H18: =G18*100/G66 -> 4.2676258 | I18: สำนักปลัด
B19: 2.2 | C19: แผนงานสร้างความเข้มแข็งชุมชน | E19: =ผด.2!T74 -> 3 | F19: 3.53 | G19: =ผด.2!U74 -> 207000 | H19: =G19*100/G66 -> 0.90884624 | I19: สำนักปลัด
A21: รวม | E21: =SUM(E18:E20) -> 11 | F21: =SUM(F18:F20) -> 12.94 | G21: =SUM(G18:G20) -> 1179000 | H21: =SUM(H18:H20) -> 5.176472
A23: -ก-
F25: หss- sohk 4 -
A29: ยุทธศาสตร์และแนวทางการพัฒนา | E29: จำนวน | F29: ร้อยละของ | G29: จำนวน | H29: ร้อยละของ | I29: หน่วย
E30: โครงการ | F30: โครงการ | G30: งบประมาณ | H30: งบประมาณ | I30: ดำเนินการ
A31: 3. | B31: ยุทธศาสตร์การพัฒนา
B32: ด้านจัดการศึกษา ศาสนาประเพณีวัฒนธรรมการกีฬและนันทนาการ
B33: 3.1 | C33: แผนงานการศึกษา | E33: =ผด.2!T121 -> 10 | F33: 11.77 | G33: =ผด.2!U121 -> 1860830 | H33: =G33*100/G66 -> 8.1700886 | I33: กองการศึกษา
B34: 3.2 | C34: แผนงานการศาสนาวัฒนธรรมและนันทนาการ | E34: =ผด.2!T195 -> 23 | F34: 27.06 | G34: =ผด.2!U195 -> 490000 | H34: =G34*100/G66 -> 2.1513751 | I34: กองการศึกษา
A36: รวม | E36: =SUM(E33:E35) -> 33 | F36: =SUM(F33:F35) -> 38.83 | G36: =SUM(G33:G35) -> 2350830 | H36: =SUM(H33:H35) -> 10.321464
A37: 4. | B37: ยุทธศาสตร์การพัฒนา
B38: ด้านการแก้ไขปัญหาความยากจนและพัฒนาคุณภาพชีวิต
B39: 4.1 | C39: แผนงานการเกษตร | E39: =ผด.2!T233 -> 6 | F39: 7.07 | G39: =ผด.2!U233 -> 35000 | H39: =G39*100/G66 -> 0.15366965 | I39: กองการศึกษา
B40: 4.2 | C40: แผนงานสร้างความเข้มแข็งชุมชน | E40: =ผด.2!T271 -> 10 | F40: 11.77 | G40: =ผด.2!U271 -> 780000 | H40: =G40*100/G66 -> 3.424638 | I40: สำนักปลัด
B41: 4.3 | C41: แผนงานสาธารณสุข | E41: =ผด.2!T292 -> 6 | F41: 7.07 | G41: =ผด.2!U292 -> 467300 | H41: =G41*100/G66 -> 2.0517094 | I41: สำนักปลัด
B42: 4.4 | C42: แผนงานสังคมสงเคราะห์ | E42: =ผด.2!T314 -> 2 | F42: 2.35 | G42: =ผด.2!U314 -> 8000 | H42: =G42*100/G66 -> 0.035124492 | I42: สำนักปลัด
B43: 4.5 | C43: แผนงานงบกลาง | E43: =ผด.2!T327 -> 3 | F43: 3.53 | G43: =ผด.2!U327 -> 11460000 | H43: =G43*100/G66 -> 50.315835 | I43: สำนักปลัด
A44: รวม | E44: =SUM(E39:E43) -> 27 | F44: =SUM(F39:F43) -> 31.79 | G44: =SUM(G39:G43) -> 12750300 | H44: =SUM(H39:H43) -> 55.980977
A46: -ข-
A52: ยุทธศาสตร์และแนวทางการพัฒนา | E52: จำนวน | F52: ร้อยละของ | G52: จำนวน | H52: ร้อยละของ | I52: หน่วย
E53: โครงการ | F53: โครงการ | G53: งบประมาณ | H53: งบประมาณ | I53: ดำเนินการ
A54: 5. | B54: ยุทธศาสตร์การพัฒนา
B55: ด้านสังคม
B56: 5.1 | C56: แผนงานสร้างความเข้มแข็งชุมชน | E56: =ผด.2!T346 -> 2 | F56: 2.35 | G56: =ผด.2!U346 -> 10000 | H56: =G56*100/G66 -> 0.043905615 | I56: สำนักปลัด
...

Sheet ผด.2
A2: ร่าง
A3: รายละเอียดโครงการ/กิจกรรม
A4: แผนดำเนินงาน ประจำปีงบประมาณ พ.ศ. 2563
A5: สำหรับ องค์กรปกครองส่วนท้องถิ่นดำเนินการเอง
A6: ก. ยุทธศาสตร์จังหวัดที่ 4 เสริมสร้างยะลาสันติสุข
A7: ข. ยุทธศาสตร์การพัฒนาขององค์กรปกครองส่วนท้องถิ่นในเขตจังหวัดที่ 3 ยุทธศาสตร์ การส่งเสริมโครงสร้างพื้นฐานและระบบคมนาคม
A8: 1. ยุทธศาสตร์การพัฒนาด้านโครงสร้างพื้นฐาน
B9: 1.1 แผนงาน อุตสาหกรรมและการโยธา
A11: ที่ | B11: โครงการ/แผนงาน/กิจกรรม | C11: เป้าหมาย | D11: งบประมาณ | E11: สถานที่ | F11: หน่วย | G11: พ.ศ.2562 | J11: พ.ศ. 2563
D12: (บาท) | E12: ดำเนินการ | F12: ดำเนินการ | G12: ต.ค. | H12: พ.ย. | I12: ธ.ค. | J12: ม.ค. | K12: ก.พ. | L12: มี.ค. | M12: เม.ย. | N12: พ.ค. | O12: มิ.ย. | P12: ก.ค | Q12: ส.ค. | R12: ก.ย.
A13: 1 | B13: โครงการก่อสร้างถนนลาดยางแอสฟัลติก | C13: ก่อสร้างถนนลาดยางแอสฟัลติก | D13: 5910000 | E13: หมู่ที่ 4 | F13: กองช่าง | U13: =D13 -> 5910000
B14: สายสี่เลน โต๊ะนิ-มัรกัส หมู่ที่ 4 | C14: กว้าง 8 เมตร ระยะทาง 1,090 เมตร | D14: (งบ ทต.)
C15: (ตามแบบ ทต.กำหนด)
T17: 1 | U17: =SUM(U13:U16) -> 5910000
A29: 1
A33: ยุทธศาสตร์จังหวัดที่ 4 เสริมสร้างยะลาสันติสุข
A34: ยุทธศาสตร์การพัฒนาของ อปท. ในเขตจังหวัดที่
A35: 2. ยุทธศาสตร์การพัฒนาด้านการบริหารจัดการองค์กรและการปกครอง
B36: 2.1 แผนงานบริหารงานทั่วไป
A38: ที่ | B38: โครงการ/แผนงาน/กิจกรรม | C38: เป้าหมาย | D38: งบประมาณ | E38: สถานที่ | F38: หน่วย | G38: พ.ศ.2562 | J38: พ.ศ. 2563
D39: (บาท) | E39: ดำเนินการ | F39: ดำเนินการ | G39: ต.ค. | H39: พ.ย. | I39: ธ.ค. | J39: ม.ค. | K39: ก.พ. | L39: มี.ค. | M39: เม.ย. | N39: พ.ค. | O39: มิ.ย. | P39: ก.ค | Q39: ส.ค. | R39: ก.ย.
A40: 1 | B40: จัดงานรัฐพิธีและวันสำคัญต่างๆ | C40: จัดกิจกรรมในงานรัฐพิธีและวันสำคัญ | D40: 30000 | E40: เทศบาล | F40: สำนักปลัด | U40: =D40 -> 30000
C41: โดยจัดถวายพระพร/กิจกรรมพัฒนา | D41: (งบ ทต.) | E41: ตำบลยุโป | U41: =D41 -> (งบ ทต.)
A42: 2 | B42: โครงการส่งเสริมคุณธรรมจริยธรรม | C42: ผู้บริหาร/สมาชิกสภา | D42: 4000 | E42: เทศบาล | F42: สำนักปลัด | U42: =D42 -> 4000
B43: ในการปฏิบัติงาน | C43: / พนักงานเทศบาล | D43: (งบ ทต.) | E43: ตำบลยุโป | U43: =D43 -> (งบ ทต.)
A44: 3 | B44: โครงการพัฒนาศักยภาพบุคลากร | C44: พนักงาน จนท. /ลูกจ้างเทศบาล | D44: 50000 | E44: เทศบาล | F44: สำนักปลัด | U44: =D44 -> 50000
B45: ท้องถิ่น | D45: (งบ ทต.) | E45: ตำบลยุโป | U45: =D45 -> (งบ ทต.)
A46: 4 | B46: โครงการให้บริการศูนย์ข้อมูลข่าวสาร | C46: พัฒนาศูนย์ข้อมูลข่าวสาร การบริหาร | D46: 4000 | E46: เทศบาล | F46: สำนักปลัด | U46: =D46 -> 4000
C47: จัดการ การเผยแพร่ สร้างการรับรู้ฯ | D47: (งบ ทต.) | E47: ตำบลยุโป | U47: =D47 -> (งบ ทต.)
A48: 5 | B48: โครงการสำรวจความพึงพอใจ | C48: สำรวจความพึงพอใจ | D48: 19000 | E48: เทศบาล | F48: สำนักปลัด | U48: =D48 -> 19000
B49: การให้บริหารสาธารณะในพื้นที่ | C49: การให้บริหารสาธารณะในพื้นที่ | D49: (งบ ทต.) | E49: ตำบลยุโป | U49: =D49 -> (งบ ทต.)
A50: 6 | B50: โครงการสนับสนุนการเลือกตั้ง | C50: ประชาชนในพื้นที่ตำบลยุโป | D50: 660000 | E50: เทศบาล | F50: สำนักปลัด | U50: =D50 -> 660000
B51: ตามหลักประชาธิปไตย | D51: (งบ ทต.) | E51: ตำบลยุโป | U51: =D51 -> (งบ ทต.)
A52: 7 | B52: โครงการจัดทำแผนที่ภาษีและ | C52: จัดทำแผนที่ภาษี | D52: 200000 | E52: เทศบาล | F52: กองคลัง | U52: =D52 -> 200000
B53: ทะเบียนทรัพย์สิน | C53: จำนวน 6 หมู่บ้าน | D53: (งบ ทต.) | E53: ตำบลยุโป | U53: =D53 -> (งบ ทต.)
A54: 8 | B54: จัดวางและปรับปรุงผังชุมชน | C54: การจัดวางผังชุมชน ในพื้นที่ | D54: 5000 | E54: เทศบาล | F54: กองช่าง | U54: =D54 -> 5000
D55: (งบ ทต.) | E55: ตำบลยุโป | U55: =D55 -> (งบ ทต.)
T56: 8 | U56: =SUM(U40:U55) -> 972000
A59: 2
A63: 2. ยุทธศาสตร์การพัฒนาด้านการบริหารจัดการองค์กรและการปกครอง
...
